BEGIN:VCALENDAR
VERSION:2.0
PRODID:-//InvisionCommunity Events 4.7.17//EN
METHOD:PUBLISH
CALSCALE:GREGORIAN
REFRESH-INTERVAL:PT15M
X-PUBLISHED-TTL:PT15M
X-WR-CALNAME:Community Calendar
NAME:Community Calendar
BEGIN:VTIMEZONE
TZID:Europe/London
TZURL:http://tzurl.org/zoneinfo/Europe/London
X-LIC-LOCATION:Europe/London
BEGIN:DAYLIGHT
TZOFFSETFROM:+0000
TZOFFSETTO:+0100
TZNAME:BST
DTSTART:20250330T020000Z
RRULE:FREQ=YEARLY;BYMONTH=3;BYDAY=-1SU
END:DAYLIGHT
BEGIN:STANDARD
TZOFFSETFROM:+0100
TZOFFSETTO:+0000
TZNAME:GMT
DTSTART:20251026T020000Z
RRULE:FREQ=YEARLY;BYMONTH=10;BYDAY=-1SU
END:STANDARD
END:VTIMEZONE
BEGIN:VEVENT
SUMMARY:Sunday Night Showdown
DTSTAMP:20250304T051059Z
SEQUENCE:0
UID:3-1-140f789d84f9f67bdf40b04a21bc1c73@www.thecrimsonmarket.com
ORGANIZER;CN="mon3ymakinmitxh":members@thecrimsonmarket.club
DESCRIPTION:\n	$100 USD Paypal Giveaway - SUNDAY - SUNDAY - SUNDAY - PvP
	 tournament 03/09/25 - Sunday Night Showdown - Best of 3 for each round - 
	Single Elimination- Finals best of 5 - Open 2 All - Experienced PvP's pref
	erred - Send battletag to Mon3yMakinMx#1144 - 1pm CST or join Discord: ht
	tps://discord.gg/fJUUw5VN - Sponsored by: Crimson Market \n\n
DTSTART:20250309T180000Z
END:VEVENT
END:VCALENDAR
