BEGIN:VCALENDAR
VERSION:2.0
PRODID:-//InvisionCommunity Events 4.7.17//EN
METHOD:PUBLISH
CALSCALE:GREGORIAN
REFRESH-INTERVAL:PT15M
X-PUBLISHED-TTL:PT15M
X-WR-CALNAME:Raid/RBG Calender
NAME:Raid/RBG Calender
BEGIN:VTIMEZONE
TZID:Europe/London
TZURL:http://tzurl.org/zoneinfo/Europe/London
X-LIC-LOCATION:Europe/London
BEGIN:DAYLIGHT
TZOFFSETFROM:+0000
TZOFFSETTO:+0100
TZNAME:BST
DTSTART:20260329T020000Z
RRULE:FREQ=YEARLY;BYMONTH=3;BYDAY=-1SU
END:DAYLIGHT
BEGIN:STANDARD
TZOFFSETFROM:+0100
TZOFFSETTO:+0000
TZNAME:GMT
DTSTART:20261025T020000Z
RRULE:FREQ=YEARLY;BYMONTH=10;BYDAY=-1SU
END:STANDARD
END:VTIMEZONE
BEGIN:VEVENT
SUMMARY:Lucky Little Raid
DTSTAMP:20260314T220606Z
SEQUENCE:0
UID:32-8-140f789d84f9f67bdf40b04a21bc1c73@www.thecrimsonmarket.com
ORGANIZER;CN="Macsusc":members@thecrimsonmarket.club
DESCRIPTION:\n	RSVP and then reply in comments with your ROLE to solidif
	y your position\, there will be a $50 giveaway at the end of the raid wher
	e people get put into a wheel where the size of their slice is based on th
	eir performance and we will spin to win!\n\n
DTSTART:20260314T220000Z
DTEND:20260315T010000Z
RRULE:FREQ=DAILY;INTERVAL=7
ATTENDEE;CN="Macsusc";CUTYPE=INDIVIDUAL;PARTSTAT=ACCEPTED:me
	mbers@thecrimsonmarket.club
ATTENDEE;CN="Elisian";CUTYPE=INDIVIDUAL;PARTSTAT=ACCEPTED:me
	mbers@thecrimsonmarket.club
ATTENDEE;CN="mashiro37";CUTYPE=INDIVIDUAL;PARTSTAT=ACCEPTED:
	members@thecrimsonmarket.club
ATTENDEE;CN="Bouncingdan";CUTYPE=INDIVIDUAL;PARTSTAT=ACCEPTE
	D:members@thecrimsonmarket.club
ATTENDEE;CN="Maxammopro#1150";CUTYPE=INDIVIDUAL;PARTSTAT=ACC
	EPTED:members@thecrimsonmarket.club
ATTENDEE;CN="woozie56k";CUTYPE=INDIVIDUAL;PARTSTAT=ACCEPTED:
	members@thecrimsonmarket.club
ATTENDEE;CN="Cat_Dad8311";CUTYPE=INDIVIDUAL;PARTSTAT=ACCEPTE
	D:members@thecrimsonmarket.club
ATTENDEE;CN="unscripted#1334";CUTYPE=INDIVIDUAL;PARTSTAT=ACC
	EPTED:members@thecrimsonmarket.club
ATTENDEE;CN="SbBryan#1730";CUTYPE=INDIVIDUAL;PARTSTAT=ACCEPT
	ED:members@thecrimsonmarket.club
END:VEVENT
END:VCALENDAR
