BEGIN:VCALENDAR
VERSION:2.0
PRODID:-//InvisionCommunity Events 4.7.17//EN
METHOD:PUBLISH
CALSCALE:GREGORIAN
REFRESH-INTERVAL:PT15M
X-PUBLISHED-TTL:PT15M
X-WR-CALNAME:S9 PvP Ultimate Championship
NAME:S9 PvP Ultimate Championship
BEGIN:VTIMEZONE
TZID:Europe/London
TZURL:http://tzurl.org/zoneinfo/Europe/London
X-LIC-LOCATION:Europe/London
BEGIN:DAYLIGHT
TZOFFSETFROM:+0000
TZOFFSETTO:+0100
TZNAME:BST
DTSTART:20250330T020000Z
RRULE:FREQ=YEARLY;BYMONTH=3;BYDAY=-1SU
END:DAYLIGHT
BEGIN:STANDARD
TZOFFSETFROM:+0100
TZOFFSETTO:+0000
TZNAME:GMT
DTSTART:20251026T020000Z
RRULE:FREQ=YEARLY;BYMONTH=10;BYDAY=-1SU
END:STANDARD
END:VTIMEZONE
BEGIN:VEVENT
SUMMARY:Ultimate Diablo Championship S9
DTSTAMP:20250718T035503Z
SEQUENCE:0
UID:25-5-140f789d84f9f67bdf40b04a21bc1c73@www.thecrimsonmarket.com
ORGANIZER;CN="Sa10#1908":members@thecrimsonmarket.club
DESCRIPTION:\n	Ultimate Diablo Championship\n\n\n\n	\n		\n	\n\n\n\n	 \n
	\n\n\n	\n\n	We're organizing a 1v1 PvP tournament.\n\n\n\n	 \n\n\n\n	Will
	 be a best of 3 tournament\, single elimination. Finals will be best of 5 
	and a bronze match.\n\n\n\n	Prizepool:\n\n	1° 200usd\n\n	2° 100usd\n\n	
	3°  50usd\n\n\n\n	We will have the most exiting fights in Sanctuary\, li
	ke old days of Roman Empire Gladiators\, specifically in the Donut's Area 
	from Denshar.\n\n\n\n	How can i sign up for the tournament? Simple\, just 
	make an account and post a comment with your class and battle tag.\n\n\n\n
		In order to be eligible for the prize\, the contestant must stream their 
	screen through our website during combat\, this will allow viewers to see 
	the action in a consolidated view as well as provide judges with indisputa
	ble evidence. Console players will need to use twitch or discord or any ot
	her streaming or recording software to capture their screen during combat.
	\n\n\n\n	Stream: https://www.twitch.tv/crimsonlootcarnival\n\n\n\n	Link of
	 the bracket event: BATTLEFY\n\n\n\n	Rules:\n\n\n\n	Every fight will last
	 1 Minute\, after this the duel will be decided praising RNG (we will spin
	 the wheel to set the winner).\n\n\n\n	Both players will start at opposite
	 sides\, right and left\, in the Bottom of the donut's area. You need to r
	emain within this area.\n\n\n\n	\n\n\n\n	 \n\n\n\n	Please leave a comment
	 with your Battletag and class to join\n\n
DTSTART:20250803T200000Z
DTEND:20250804T010000Z
END:VEVENT
END:VCALENDAR
